BEGIN:VCALENDAR
VERSION:2.0
PRODID:-//Ten Pound Fiddle - ECPv6.15.12.2//NONSGML v1.0//EN
CALSCALE:GREGORIAN
METHOD:PUBLISH
X-WR-CALNAME:Ten Pound Fiddle
X-ORIGINAL-URL:https://www.tenpoundfiddle.org
X-WR-CALDESC:Events for Ten Pound Fiddle
REFRESH-INTERVAL;VALUE=DURATION:PT1H
X-Robots-Tag:noindex
X-PUBLISHED-TTL:PT1H
BEGIN:VTIMEZONE
TZID:America/Detroit
BEGIN:DAYLIGHT
TZOFFSETFROM:-0500
TZOFFSETTO:-0400
TZNAME:EDT
DTSTART:20230312T070000
END:DAYLIGHT
BEGIN:STANDARD
TZOFFSETFROM:-0400
TZOFFSETTO:-0500
TZNAME:EST
DTSTART:20231105T060000
END:STANDARD
BEGIN:DAYLIGHT
TZOFFSETFROM:-0500
TZOFFSETTO:-0400
TZNAME:EDT
DTSTART:20240310T070000
END:DAYLIGHT
BEGIN:STANDARD
TZOFFSETFROM:-0400
TZOFFSETTO:-0500
TZNAME:EST
DTSTART:20241103T060000
END:STANDARD
BEGIN:DAYLIGHT
TZOFFSETFROM:-0500
TZOFFSETTO:-0400
TZNAME:EDT
DTSTART:20250309T070000
END:DAYLIGHT
BEGIN:STANDARD
TZOFFSETFROM:-0400
TZOFFSETTO:-0500
TZNAME:EST
DTSTART:20251102T060000
END:STANDARD
END:VTIMEZONE
BEGIN:VEVENT
DTSTART;TZID=America/Detroit:20240223T193000
DTEND;TZID=America/Detroit:20240223T220000
DTSTAMP:20260419T120408
CREATED:20230811T032743Z
LAST-MODIFIED:20231212T210702Z
UID:13257-1708716600-1708725600@www.tenpoundfiddle.org
SUMMARY:Feufollet
DESCRIPTION:This show is at UrbanBeat in Lansing’s Old Town. There is plenty of parking a half block away in the huge lot at Turner and Grand River Streets. \nOn Two Universes\, their first studio album in over five years\, Feufollet proves their Cajun roots don’t define them as much as propel them forward; whispers of the swamp and its time-honored waltzes trigger a modern and broad musical imagination\, one that finds equal expression in blues\, old-time\, country ballads\, rock’n’roll\, whatever\, all for the sake of the song. \nFollowing the celebrated releases COW ISLAND HOP (2008) and EN COULEURS (2010)\, TWO UNIVERSES (2015) is the product of long-steeping recording sessions and collaborative songwriting between bandleader Chris Stafford and singer and multi-instrumentalist Kelli Jones\, whose contributions make this a breakout album\, of sorts. \n\nRaised on Appalachian fiddle traditions\, Kelli adds old-time stomp to the band’s repertoire.  Also new to the band\, keyboardist Andrew Toups lends a new-wave gospel sound owed to his background playing in rock bands. Toups’s influence on shaping the record\, combined with Feufollet’s usual fare—twin fiddles\, French accordion\, guitar twang\, and barn-dance rhythms— give the record more than a passing resemblance to the Band’s Music From the Big Pink. \nBut above all else\, the album’s signature sound comes from the vocal performances. Flipping from husky honky-tonk angel to French chanteuse\, Kelli’s voice perfectly pairs with Stafford’s swamp-pop vocal stylings. As the two trade off lead and harmony parts\, they hit upon some of the same magic as history’s greatest duet partners—Emmylou Harris and Gram Parsons\, Gillian Welch and Dave Rawlings\, and Stevie Nicks and Lindsey Buckingham. Theirs is the sound of two universes colliding and\, no surprise\, it reaches maximum effect on the album’s title track. \nCajun\, country\, and rock’n’roll all began as homespun enterprises\, by musicians tinkering with inherited melodies until new sounds were struck. Feufollet keeps that experimental spirit alive and well with their diverse musical palette\, edgy arrangements\, and pop-song sensibilities. On their 11-track release—exquisitely packaged with the psychedelic-folk art of Louisiana painter Francis Pavy—the band accomplishes the unusual feat of creating a sound that is at once familiar and fresh\, classic and yet unmistakably original. \n\n 
URL:https://www.tenpoundfiddle.org/event/feufollet/
LOCATION:UrbanBeat\, 1213 Turner Street\, Lansing\, MI\, 48906\, United States
CATEGORIES:Concert
ATTACH;FMTTYPE=image/jpeg:https://www.tenpoundfiddle.org/2016/wp-content/uploads/2023/08/Feufollet.jpg
GEO:42.747898;-84.549841
X-APPLE-STRUCTURED-LOCATION;VALUE=URI;X-ADDRESS=UrbanBeat 1213 Turner Street Lansing MI 48906 United States;X-APPLE-RADIUS=500;X-TITLE=1213 Turner Street:geo:-84.549841,42.747898
END:VEVENT
END:VCALENDAR