BEGIN:VCALENDAR
VERSION:2.0
PRODID:-//Ten Pound Fiddle - ECPv6.15.12.2//NONSGML v1.0//EN
CALSCALE:GREGORIAN
METHOD:PUBLISH
X-WR-CALNAME:Ten Pound Fiddle
X-ORIGINAL-URL:https://www.tenpoundfiddle.org
X-WR-CALDESC:Events for Ten Pound Fiddle
REFRESH-INTERVAL;VALUE=DURATION:PT1H
X-Robots-Tag:noindex
X-PUBLISHED-TTL:PT1H
BEGIN:VTIMEZONE
TZID:America/Detroit
BEGIN:DAYLIGHT
TZOFFSETFROM:-0500
TZOFFSETTO:-0400
TZNAME:EDT
DTSTART:20170312T070000
END:DAYLIGHT
BEGIN:STANDARD
TZOFFSETFROM:-0400
TZOFFSETTO:-0500
TZNAME:EST
DTSTART:20171105T060000
END:STANDARD
BEGIN:DAYLIGHT
TZOFFSETFROM:-0500
TZOFFSETTO:-0400
TZNAME:EDT
DTSTART:20180311T070000
END:DAYLIGHT
BEGIN:STANDARD
TZOFFSETFROM:-0400
TZOFFSETTO:-0500
TZNAME:EST
DTSTART:20181104T060000
END:STANDARD
BEGIN:DAYLIGHT
TZOFFSETFROM:-0500
TZOFFSETTO:-0400
TZNAME:EDT
DTSTART:20190310T070000
END:DAYLIGHT
BEGIN:STANDARD
TZOFFSETFROM:-0400
TZOFFSETTO:-0500
TZNAME:EST
DTSTART:20191103T060000
END:STANDARD
END:VTIMEZONE
BEGIN:VEVENT
DTSTART;TZID=America/Detroit:20181004T193000
DTEND;TZID=America/Detroit:20181004T220000
DTSTAMP:20260419T162544
CREATED:20180810T134850Z
LAST-MODIFIED:20180917T180126Z
UID:5015-1538681400-1538690400@www.tenpoundfiddle.org
SUMMARY:Don Julin Quartet - Thursday Concert
DESCRIPTION:Don Julin\, has developed a reputation for being one of the most eclectic mandolin players on the scene today. Based in Traverse City\, Michigan\, Don has been performing\, teaching\, and recording music with the mandolin for over 35 years. His original compositions have been used in productions by Sony Classics\, HBO\, VH1\, MTV\, NBC\, Showtime\, Bravo\, National Geographic Explorer\, Fox Sports\, and many more. \nEver wonder what the Red Haired Boy would sound like with a one chord James Brown type of groove? Or what about songs titled Muppets On The Titanic or You Make My Skin Crawl? The Don Julin Quartet featuring Joe Wilson (dobro)\, Kevin Gills (bass)\, and Dave Collini (cajon) take listeners through a genre-bending instrumental journey that includes hints of bluegrass\, jazz\, latin\, funk\, and even a bit of baby boomer rock. Their latest recording “Live 2018” captures the magic of four great instrumentalists performing in a inspiring space\, with an appreciative\, listening audience.
URL:https://www.tenpoundfiddle.org/event/don-julin-quartet-thursday-concert/
LOCATION:The Robin Theatre\, 1105 S. Washington Ave\, Lansing\, MI\, 48901\, United States
CATEGORIES:Concert
ATTACH;FMTTYPE=image/jpeg:https://www.tenpoundfiddle.org/2016/wp-content/uploads/2018/08/181004.jpg
GEO:42.721602;-84.552
X-APPLE-STRUCTURED-LOCATION;VALUE=URI;X-ADDRESS=The Robin Theatre 1105 S. Washington Ave Lansing MI 48901 United States;X-APPLE-RADIUS=500;X-TITLE=1105 S. Washington Ave:geo:-84.552,42.721602
END:VEVENT
END:VCALENDAR