BEGIN:VCALENDAR
VERSION:2.0
PRODID:-//Ten Pound Fiddle - ECPv6.15.12.2//NONSGML v1.0//EN
CALSCALE:GREGORIAN
METHOD:PUBLISH
X-WR-CALNAME:Ten Pound Fiddle
X-ORIGINAL-URL:https://www.tenpoundfiddle.org
X-WR-CALDESC:Events for Ten Pound Fiddle
REFRESH-INTERVAL;VALUE=DURATION:PT1H
X-Robots-Tag:noindex
X-PUBLISHED-TTL:PT1H
BEGIN:VTIMEZONE
TZID:America/Detroit
BEGIN:DAYLIGHT
TZOFFSETFROM:-0500
TZOFFSETTO:-0400
TZNAME:EDT
DTSTART:20220313T070000
END:DAYLIGHT
BEGIN:STANDARD
TZOFFSETFROM:-0400
TZOFFSETTO:-0500
TZNAME:EST
DTSTART:20221106T060000
END:STANDARD
BEGIN:DAYLIGHT
TZOFFSETFROM:-0500
TZOFFSETTO:-0400
TZNAME:EDT
DTSTART:20230312T070000
END:DAYLIGHT
BEGIN:STANDARD
TZOFFSETFROM:-0400
TZOFFSETTO:-0500
TZNAME:EST
DTSTART:20231105T060000
END:STANDARD
BEGIN:DAYLIGHT
TZOFFSETFROM:-0500
TZOFFSETTO:-0400
TZNAME:EDT
DTSTART:20240310T070000
END:DAYLIGHT
BEGIN:STANDARD
TZOFFSETFROM:-0400
TZOFFSETTO:-0500
TZNAME:EST
DTSTART:20241103T060000
END:STANDARD
END:VTIMEZONE
BEGIN:VEVENT
DTSTART;TZID=America/Detroit:20230310T193000
DTEND;TZID=America/Detroit:20230310T220000
DTSTAMP:20260419T144448
CREATED:20220816T202201Z
LAST-MODIFIED:20250731T020218Z
UID:11955-1678476600-1678485600@www.tenpoundfiddle.org
SUMMARY:Deidre McCalla
DESCRIPTION:Deidre McCalla doesn’t merely take the stage – she owns it.\nDeidre – a Black woman\, mother\, lesbian\, feminist – has long been in the forefront of Black musicians rewiring perception of how Black folk do folk. Deidre McCalla’s 2022 release\, ENDLESS GRACE\, her fifth independent album\, is the bold statement of an artist confidently claiming her place in the world and relentlessly affirming the power and diversity of the human spirit. In its debut month of release ENDLESS GRACE topped the June FAI Folk Radio Chart as the #1 Album with the #1 Song Shoulder To The Wheel and #3 Song I Do Not Walk This Path Alone\, and with Deidre McCalla as the #2 Top Artist right behind the legendary Tom Paxton. \nhttps://www.youtube.com/watch?time_continue=1&v=_g_rN8eKOhs&feature=emb_logo \nIn 2021 Deidre McCalla received a SERFA Award from the Southeast Regional Folk Alliance for distinguished service and exceptional contributions to folk music in the Southeast region of Folk Alliance International. Sing Out Magazine lauded her CD PLAYING FOR KEEPS\, as a work of “power\, conviction and grace.” \nHer first Olivia Records album DON’T DOUBT IT is listed as one of 25 Classic Women’s Music Albums by Ms Magazine.
URL:https://www.tenpoundfiddle.org/event/deidre-mccalla/
LOCATION:University United Methodist Church (UUMC)\, 1120 S. Harrison\, East Lansing\, MI\, 48823\, United States
CATEGORIES:Concert
ATTACH;FMTTYPE=image/jpeg:https://www.tenpoundfiddle.org/2016/wp-content/uploads/2022/08/230310-konC13.tmp_.jpg
GEO:42.7213326;-84.4947507
X-APPLE-STRUCTURED-LOCATION;VALUE=URI;X-ADDRESS=University United Methodist Church (UUMC) 1120 S. Harrison East Lansing MI 48823 United States;X-APPLE-RADIUS=500;X-TITLE=1120 S. Harrison:geo:-84.4947507,42.7213326
END:VEVENT
END:VCALENDAR