BEGIN:VCALENDAR
VERSION:2.0
PRODID:-//Ten Pound Fiddle - ECPv6.15.12.2//NONSGML v1.0//EN
CALSCALE:GREGORIAN
METHOD:PUBLISH
X-WR-CALNAME:Ten Pound Fiddle
X-ORIGINAL-URL:https://www.tenpoundfiddle.org
X-WR-CALDESC:Events for Ten Pound Fiddle
REFRESH-INTERVAL;VALUE=DURATION:PT1H
X-Robots-Tag:noindex
X-PUBLISHED-TTL:PT1H
BEGIN:VTIMEZONE
TZID:America/Detroit
BEGIN:DAYLIGHT
TZOFFSETFROM:-0500
TZOFFSETTO:-0400
TZNAME:EDT
DTSTART:20230312T070000
END:DAYLIGHT
BEGIN:STANDARD
TZOFFSETFROM:-0400
TZOFFSETTO:-0500
TZNAME:EST
DTSTART:20231105T060000
END:STANDARD
BEGIN:DAYLIGHT
TZOFFSETFROM:-0500
TZOFFSETTO:-0400
TZNAME:EDT
DTSTART:20240310T070000
END:DAYLIGHT
BEGIN:STANDARD
TZOFFSETFROM:-0400
TZOFFSETTO:-0500
TZNAME:EST
DTSTART:20241103T060000
END:STANDARD
BEGIN:DAYLIGHT
TZOFFSETFROM:-0500
TZOFFSETTO:-0400
TZNAME:EDT
DTSTART:20250309T070000
END:DAYLIGHT
BEGIN:STANDARD
TZOFFSETFROM:-0400
TZOFFSETTO:-0500
TZNAME:EST
DTSTART:20251102T060000
END:STANDARD
END:VTIMEZONE
BEGIN:VEVENT
DTSTART;TZID=America/Detroit:20240420T190000
DTEND;TZID=America/Detroit:20240420T220000
DTSTAMP:20260419T144215
CREATED:20231120T181355Z
LAST-MODIFIED:20240304T135833Z
UID:16595-1713639600-1713650400@www.tenpoundfiddle.org
SUMMARY:Contra and Square Dance
DESCRIPTION:This dance is co-sponsored by the Fiddle and Looking Glass Music and Arts Association. All dances taught – no partner needed. Wear loose clothes\, comfortable shoes\, and be prepared to have a good time! Come early – at 6:30 – for a quick workshop on easy contra dance moves. For more info\, call 517-614-5858.
URL:https://www.tenpoundfiddle.org/event/dance20/
LOCATION:Dewitt Township Community Center\, 16101 Brook Rd.\, Lansing\, MI\, 48906\, United States
CATEGORIES:Dance
ATTACH;FMTTYPE=image/jpeg:https://www.tenpoundfiddle.org/2016/wp-content/uploads/2022/11/Dance-Young-dancers-IG-e6tJrS.tmp_.jpg
GEO:42.7828198;-84.5398942
X-APPLE-STRUCTURED-LOCATION;VALUE=URI;X-ADDRESS=Dewitt Township Community Center 16101 Brook Rd. Lansing MI 48906 United States;X-APPLE-RADIUS=500;X-TITLE=16101 Brook Rd.:geo:-84.5398942,42.7828198
END:VEVENT
END:VCALENDAR