BEGIN:VCALENDAR
VERSION:2.0
PRODID:-//Ten Pound Fiddle - ECPv6.15.12.2//NONSGML v1.0//EN
CALSCALE:GREGORIAN
METHOD:PUBLISH
X-WR-CALNAME:Ten Pound Fiddle
X-ORIGINAL-URL:https://www.tenpoundfiddle.org
X-WR-CALDESC:Events for Ten Pound Fiddle
REFRESH-INTERVAL;VALUE=DURATION:PT1H
X-Robots-Tag:noindex
X-PUBLISHED-TTL:PT1H
BEGIN:VTIMEZONE
TZID:America/Detroit
BEGIN:DAYLIGHT
TZOFFSETFROM:-0500
TZOFFSETTO:-0400
TZNAME:EDT
DTSTART:20180311T070000
END:DAYLIGHT
BEGIN:STANDARD
TZOFFSETFROM:-0400
TZOFFSETTO:-0500
TZNAME:EST
DTSTART:20181104T060000
END:STANDARD
BEGIN:DAYLIGHT
TZOFFSETFROM:-0500
TZOFFSETTO:-0400
TZNAME:EDT
DTSTART:20190310T070000
END:DAYLIGHT
BEGIN:STANDARD
TZOFFSETFROM:-0400
TZOFFSETTO:-0500
TZNAME:EST
DTSTART:20191103T060000
END:STANDARD
BEGIN:DAYLIGHT
TZOFFSETFROM:-0500
TZOFFSETTO:-0400
TZNAME:EDT
DTSTART:20200308T070000
END:DAYLIGHT
BEGIN:STANDARD
TZOFFSETFROM:-0400
TZOFFSETTO:-0500
TZNAME:EST
DTSTART:20201101T060000
END:STANDARD
END:VTIMEZONE
BEGIN:VEVENT
DTSTART;TZID=America/Detroit:20190322T193000
DTEND;TZID=America/Detroit:20190322T220000
DTSTAMP:20260419T165704
CREATED:20180810T135617Z
LAST-MODIFIED:20250731T020221Z
UID:5038-1553283000-1553292000@www.tenpoundfiddle.org
SUMMARY:Crys Matthews
DESCRIPTION:Crys Matthews blends Americana\, folk\, jazz\, blues\, bluegrass and funk into a bold\, complex performance steeped in traditional melodies and punctuated by honest\, original lyrics. In August 2017\, the North Carolina native turned Virginia resident simultaneously released both a new full-length album\, The Imagineers and an EP\, Battle Hymn For An Army Of Lovers. These collections showcase two sides of Matthews’ dynamic songwriting; The Imagineers is a selection of thoughtful songs about love and life while Battle Hymn For An Army Of Lovers tackles social justice themes. Songs from both projects have already won her recognition and awards. She was one of ten finalists (out of 5\,000 entrants) in last year’s NewSong Music Competition and\, after performing at Lincoln Center on November 30th\, she was named grand-prize winner. Matthews also won the People Music Network’s Social Justice Songs contest at the Northeast Regional Folk Alliance\, and was selected as an official showcase artist at Folk Alliance International in February. Crys Matthews speaks to the voice of our generation and remind us why music indeed soothes the soul. \n  \nhttps://youtu.be/ZaN2H25kTts?t=52s \nhttps://youtu.be/4uZHHqkKmgw \nhttps://youtu.be/41iRb85Opro \n  \n  \n  \n 
URL:https://www.tenpoundfiddle.org/event/crys-matthews/
LOCATION:The Robin Theatre\, 1105 S. Washington Ave\, Lansing\, MI\, 48901\, United States
CATEGORIES:Concert
ATTACH;FMTTYPE=image/jpeg:https://www.tenpoundfiddle.org/2016/wp-content/uploads/2018/08/190322.jpg
GEO:42.721602;-84.552
X-APPLE-STRUCTURED-LOCATION;VALUE=URI;X-ADDRESS=The Robin Theatre 1105 S. Washington Ave Lansing MI 48901 United States;X-APPLE-RADIUS=500;X-TITLE=1105 S. Washington Ave:geo:-84.552,42.721602
END:VEVENT
END:VCALENDAR