BEGIN:VCALENDAR
VERSION:2.0
PRODID:-//Ten Pound Fiddle - ECPv6.15.12.2//NONSGML v1.0//EN
CALSCALE:GREGORIAN
METHOD:PUBLISH
X-WR-CALNAME:Ten Pound Fiddle
X-ORIGINAL-URL:https://www.tenpoundfiddle.org
X-WR-CALDESC:Events for Ten Pound Fiddle
REFRESH-INTERVAL;VALUE=DURATION:PT1H
X-Robots-Tag:noindex
X-PUBLISHED-TTL:PT1H
BEGIN:VTIMEZONE
TZID:America/Detroit
BEGIN:DAYLIGHT
TZOFFSETFROM:-0500
TZOFFSETTO:-0400
TZNAME:EDT
DTSTART:20210314T070000
END:DAYLIGHT
BEGIN:STANDARD
TZOFFSETFROM:-0400
TZOFFSETTO:-0500
TZNAME:EST
DTSTART:20211107T060000
END:STANDARD
BEGIN:DAYLIGHT
TZOFFSETFROM:-0500
TZOFFSETTO:-0400
TZNAME:EDT
DTSTART:20220313T070000
END:DAYLIGHT
BEGIN:STANDARD
TZOFFSETFROM:-0400
TZOFFSETTO:-0500
TZNAME:EST
DTSTART:20221106T060000
END:STANDARD
BEGIN:DAYLIGHT
TZOFFSETFROM:-0500
TZOFFSETTO:-0400
TZNAME:EDT
DTSTART:20230312T070000
END:DAYLIGHT
BEGIN:STANDARD
TZOFFSETFROM:-0400
TZOFFSETTO:-0500
TZNAME:EST
DTSTART:20231105T060000
END:STANDARD
END:VTIMEZONE
BEGIN:VEVENT
DTSTART;TZID=America/Detroit:20220305T190000
DTEND;TZID=America/Detroit:20220305T220000
DTSTAMP:20260419T162442
CREATED:20210810T145236Z
LAST-MODIFIED:20220209T234233Z
UID:8799-1646506800-1646517600@www.tenpoundfiddle.org
SUMMARY:Laura's Celebration - English\, Contra and Square Dance
DESCRIPTION:Dear Friends\,\n\nCome dance to celebrate Laura’s life.\nEnglish dance 2-5\, contras and squares 7-10.\n\nGaye Fifer calling\, Karen Axelrod and Daron Douglas musicians.\n\nCovid Protocols: 1. Everyone must provide proof of full vaccination (along with a photo ID). No exceptions. Boosters are encouraged.2. Masks MUST be worn at all times\, except when drinking water. We will provide straws. Surgical masks are much better than cloth masks.3. Everyone will provide contact information — email and phone number.4. There will be no snacks. There will be no potluck dinner between the dances.5. If you are SICK DO NOT Come.\n\nWe know there is some risk. The covid virus is going to be with us forever from now on. We need to learn how to mitigate its effects as we do with flu and live our lives. Being vaccinated and boosted does not prevent one from getting sick\, but it does lead to a significantly milder infection. Each individual needs to evaluate their own risk tolerance and decide whether to attend or not. We hope you will come and are looking forward to dancing together again.\n-Bob Stein \nAll dances taught – no partner needed. Wear loose clothes\, comfortable shoes\, and be prepared to have a good time! \nCome early – at 6:30 – for a quick workshop on easy contra dance moves. For more info\, call 517-614-5858.
URL:https://www.tenpoundfiddle.org/event/contra-and-square-dance-18-2-2-2/
LOCATION:Central United Methodist Church\, 215 N. Capitol Ave\, Lansing\, MI\, 48933\, United States
CATEGORIES:Dance
ATTACH;FMTTYPE=image/jpeg:https://www.tenpoundfiddle.org/2016/wp-content/uploads/2019/04/Dance-Young-female-dancers-dark.jpg
GEO:42.7350069;-84.5543291
X-APPLE-STRUCTURED-LOCATION;VALUE=URI;X-ADDRESS=Central United Methodist Church 215 N. Capitol Ave Lansing MI 48933 United States;X-APPLE-RADIUS=500;X-TITLE=215 N. Capitol Ave:geo:-84.5543291,42.7350069
END:VEVENT
END:VCALENDAR