BEGIN:VCALENDAR
VERSION:2.0
PRODID:-//Ten Pound Fiddle - ECPv6.15.12.2//NONSGML v1.0//EN
CALSCALE:GREGORIAN
METHOD:PUBLISH
X-WR-CALNAME:Ten Pound Fiddle
X-ORIGINAL-URL:https://www.tenpoundfiddle.org
X-WR-CALDESC:Events for Ten Pound Fiddle
REFRESH-INTERVAL;VALUE=DURATION:PT1H
X-Robots-Tag:noindex
X-PUBLISHED-TTL:PT1H
BEGIN:VTIMEZONE
TZID:America/Detroit
BEGIN:DAYLIGHT
TZOFFSETFROM:-0500
TZOFFSETTO:-0400
TZNAME:EDT
DTSTART:20190310T070000
END:DAYLIGHT
BEGIN:STANDARD
TZOFFSETFROM:-0400
TZOFFSETTO:-0500
TZNAME:EST
DTSTART:20191103T060000
END:STANDARD
BEGIN:DAYLIGHT
TZOFFSETFROM:-0500
TZOFFSETTO:-0400
TZNAME:EDT
DTSTART:20200308T070000
END:DAYLIGHT
BEGIN:STANDARD
TZOFFSETFROM:-0400
TZOFFSETTO:-0500
TZNAME:EST
DTSTART:20201101T060000
END:STANDARD
BEGIN:DAYLIGHT
TZOFFSETFROM:-0500
TZOFFSETTO:-0400
TZNAME:EDT
DTSTART:20210314T070000
END:DAYLIGHT
BEGIN:STANDARD
TZOFFSETFROM:-0400
TZOFFSETTO:-0500
TZNAME:EST
DTSTART:20211107T060000
END:STANDARD
END:VTIMEZONE
BEGIN:VEVENT
DTSTART;TZID=America/Detroit:20200110T193000
DTEND;TZID=America/Detroit:20200110T220000
DTSTAMP:20260419T144733
CREATED:20190805T230300Z
LAST-MODIFIED:20250731T020220Z
UID:6764-1578684600-1578693600@www.tenpoundfiddle.org
SUMMARY:Connie Kaldor and Garnet Rogers
DESCRIPTION:Connie Kaldor \n\n\n“…quirky\, often wickedly funny” -Regina Leader-Post\n\n\nShe has traveled prairie backroads to visit modest community centres and sold out concert halls in major cities. From Beijing to New Delhi to Saskatoon to Washington\, Connie has triumphed with her  mix of song and humour  honed in pacing and tone by the many years she spent performing. \nHer song Wood River was chosen by Canadian Geographic as one of Canada’s finest songs. She is the only songwriter to win the Western Literary Association award of merit\, She was made a member of the order of Canada\, the highest civilian award in her country.  She is moving\, memorable and irreverent as heck. \nWhen schedules allow she tours with her two talented sons who each front bands of their own proving the fruit never falls far from the tree. \nhttps://www.youtube.com/watch?v=MsVg9MwunEY \n Garnet Rogers \nhttps://www.youtube.com/watch?v=wED7a_WRDkg \n“A brilliant songwriter. One of the major talents of our time.” -Boston Globe \nIn a darkened bedroom\, lit only by the amber glow from an old floor model radio\, two young brothers aged 6 and 12 lay in their beds\, listening to the country music broadcasts from the Grand Ol’ Opry\, and practiced their harmonies. Two years later\, the youngest one was playing the definitive 8-year-old’s version of “Desolation Row” on his ukulele. He soon abandoned that instrument to teach himself the flute\, violin and guitar. \nWithin ten years\, and barely out of high school\, Garnet Rogers was on the road as a full-time working musician with his older brother Stan. Together they formed what has come to be accepted as one of the most influential acts in North American folk music. \nSince then\, Garnet Rogers has established himself as ‘One of the major talents of our time”. Hailed by the Boston Globe as a “charismatic performer and singer”\, Garnet is a man with a powerful physical presence – close to six and a half feet tall – with a voice to match. With his “smooth\, dark baritone” (Washington Post) his incredible range\, and thoughtful\, dramatic phrasing\, Garnet is widely considered by fans and critics alike to be one of the finest singers anywhere. His music\, like the man himself\, is literate\, passionate\, highly sensitive\, and deeply purposeful. Cinematic in detail\, his songs “give expression to the unspoken vocabulary of the heart” (Kitchener Waterloo Record). An optimist at heart\, Garnet sings extraordinary songs about people who are not obvious heroes and of the small victories of the everyday. As memorable as his songs\, his over-the-top humour and lightning-quick wit moves his audience from tears to laughter and back again. \n“Garnet Rogers is capable of awe-inspiring and unpredictable stuff – and that includes more than just music” \nResolutely independent\, Garnet Rogers has turned down offers from major labels to do his music his own way.
URL:https://www.tenpoundfiddle.org/event/connie-kaldor-and-garnet-rogers/
LOCATION:MSU Community Music School\, 4930 S. Hagadorn\, East Lansing\, MI\, 48823\, United States
CATEGORIES:Concert
ATTACH;FMTTYPE=image/jpeg:https://www.tenpoundfiddle.org/2016/wp-content/uploads/2019/08/200110.jpg
GEO:42.725146;-84.4611
X-APPLE-STRUCTURED-LOCATION;VALUE=URI;X-ADDRESS=MSU Community Music School 4930 S. Hagadorn East Lansing MI 48823 United States;X-APPLE-RADIUS=500;X-TITLE=4930 S. Hagadorn:geo:-84.4611,42.725146
END:VEVENT
END:VCALENDAR