BEGIN:VCALENDAR
VERSION:2.0
PRODID:-//Ten Pound Fiddle - ECPv6.15.12.2//NONSGML v1.0//EN
CALSCALE:GREGORIAN
METHOD:PUBLISH
X-WR-CALNAME:Ten Pound Fiddle
X-ORIGINAL-URL:https://www.tenpoundfiddle.org
X-WR-CALDESC:Events for Ten Pound Fiddle
REFRESH-INTERVAL;VALUE=DURATION:PT1H
X-Robots-Tag:noindex
X-PUBLISHED-TTL:PT1H
BEGIN:VTIMEZONE
TZID:America/Detroit
BEGIN:DAYLIGHT
TZOFFSETFROM:-0500
TZOFFSETTO:-0400
TZNAME:EDT
DTSTART:20230312T070000
END:DAYLIGHT
BEGIN:STANDARD
TZOFFSETFROM:-0400
TZOFFSETTO:-0500
TZNAME:EST
DTSTART:20231105T060000
END:STANDARD
BEGIN:DAYLIGHT
TZOFFSETFROM:-0500
TZOFFSETTO:-0400
TZNAME:EDT
DTSTART:20240310T070000
END:DAYLIGHT
BEGIN:STANDARD
TZOFFSETFROM:-0400
TZOFFSETTO:-0500
TZNAME:EST
DTSTART:20241103T060000
END:STANDARD
BEGIN:DAYLIGHT
TZOFFSETFROM:-0500
TZOFFSETTO:-0400
TZNAME:EDT
DTSTART:20250309T070000
END:DAYLIGHT
BEGIN:STANDARD
TZOFFSETFROM:-0400
TZOFFSETTO:-0500
TZNAME:EST
DTSTART:20251102T060000
END:STANDARD
END:VTIMEZONE
BEGIN:VEVENT
DTSTART;TZID=America/Detroit:20241011T193000
DTEND;TZID=America/Detroit:20241011T220000
DTSTAMP:20260419T162544
CREATED:20240813T160703Z
LAST-MODIFIED:20241008T191756Z
UID:18909-1728675000-1728684000@www.tenpoundfiddle.org
SUMMARY:Claudia Schmidt and Rachael Davis
DESCRIPTION:Claudia Schmidt and Rachael Davis both grew up in MI with their hearts full of music\, only a few decades apart. The MI folk music community brought them together eventually\, and they’ve have celebrated each others’ respective musical journeys. Best of all\, sometimes after all these years\, their paths converge\, as they will at The Fiddle! A joyous sharing of songs\, stories\, laughter and harmony await your enjoyment and participation. \nAbout Claudia:\nClaudia Schmidt brings her exuberant music and love of humanity back to The Fiddle! With her multi-octave voice\, 12 string guitar and mountain dulcimer\, she weaves together song\, story and spoken word in a one-of-a-kind presentation that will fill your heart and refresh your soul. After more than 50 years of writing and performing\, she is as strong as ever\, sharing her wonder and amazement at the world and all the creatures\, including us\, who inhabit it. She recently released her 22nd album\, Reimagining\, and is working on new material for yet another release in this celebratory year. She has called this 50 anniversary CLAUDFEST\, and is having such a good time celebrating that she decided to just call the rest of her life CLAUDFEST! \nhttp://www.claudiaschmidt.com \n\nAbout Rachael:\nMulti-instrumentalist Rachael Davis is as renown for her expressive–and explosive–voice as she is for uniting the often disparate worlds of folk\, blues\, country\, and pop. \nDavis grew up not only in a family of musicians\, but in an extended village of remarkable musicians and songwriters who nurtured and mentored her from the time she was born. Beginning by jingling ankle bells in perfect time on her months old feet in the middle of old timey jams and song circles\, to contributing newly minted songs to Music Sundays\, Rachael has always found her own unique part in the music. Her clear tone and uncanny memory for just about every song she’s ever heard came early\, and has served her well throughout her career. As a child Davis took to harmony\, piano\, and ukulele\, and at 8\, joined the family band Lake Effect\, performing regularly at folk festivals throughout her home state of Michigan and around the U.S. By age 12\, and continuing each year since\, Rachael has brought the Wheatland Music Festival to its knees closing the Sunday morning gospel set with her stunning solo acapella version of Amazing Grace. \n“I was learning everything I could get my hands on and when I was 17\, my father gave me his Bart Reiter banjo and taught me to play clawhammer style\,” recalled Davis. “I like to joke that cursed me for life.” \nAt 20\, already a professional and deeply moved by traditional mountain music\, blues\, and ballads\, Davis composed and recorded her debut album “Minor League Deities\,” then with that\, and a heart full of promise Rachael Davis headed to Boston the day after the 911 attack. There she began performing in city subways and the streets of Cambridge. Within months she had made her mark on the Boston music scene winning the prestigious Boston Music Award for Best New Singer/Songwriter. \nDavis often found sanctuary in the city’s basement level record stores as well as Boston’s premier acoustic music clubs where she made fans and friends of local stage veterans Vance Gilbert\, Cheryl Wheeler\, Josh Ritter\, and indie rock’s parade float princess\, Mary Lou Lord. \n“In a way\, they’re all still with me today\,” says Davis\, “I was part of a real music community there. My story was just like theirs. We all knew we were on a path to find something and for that moment\, we were all in the same place.” \nBecause Davis has been swayed by so many different types of music\, her style is difficult to file and will not languorously rest amid broader musical genres. “My slant on acoustic music can be explained by a mixed cassette tape that my father played during my early childhood while driving in our family’s Chevy Cavalier station wagon we nicknamed Iggy. On one side of the cassette was the soundtrack for the film The Big Chill. On the other was John Hartford’s “Aeroplane.” Today Davis describes her music as ‘Motown-Banjo’. \nDavis has lent her voice to countless recordings for friends\, film soundtracks\, and even video games\, but it is her intuitive and empathetic understanding of folk music\,”the music of folks” as she calls it\, and her original and thoughtful songwriting voice that has earned her fans around the U.S. \nRecently she has collaborated in the critically acclaimed supergroup: The Sweetwater Warblers. Comprised of Rachael Davis\, Lindsay Lou\, and May Erlewine\, all three premiere Michigan-grown songbirds. \nRachael Davis now lives in Nashville\, Tennessee with her husband\, critically acclaimed bassist\, Dominic John Davis\,  with whom she performs as The Davis Duo. Together they cultivate a diverse community steeped in music\, art\, travel and love\, and are raising a son and daughter at the center of it all. \nhttps://www.rachaeldavis.com \n\n 
URL:https://www.tenpoundfiddle.org/event/claudia-schmidt-and-rachael-davis/
LOCATION:University Lutheran Church (ULC)\, 1020 S Harrison Rd\, East Lansing\, MI\, 48823\, United States
CATEGORIES:Concert,Featured
ATTACH;FMTTYPE=image/jpeg:https://www.tenpoundfiddle.org/2016/wp-content/uploads/2024/08/241011-EK4Elz.tmp_.jpg
GEO:42.723138;-84.4947078
X-APPLE-STRUCTURED-LOCATION;VALUE=URI;X-ADDRESS=University Lutheran Church (ULC) 1020 S Harrison Rd East Lansing MI 48823 United States;X-APPLE-RADIUS=500;X-TITLE=1020 S Harrison Rd:geo:-84.4947078,42.723138
END:VEVENT
END:VCALENDAR