BEGIN:VCALENDAR
VERSION:2.0
PRODID:-//Ten Pound Fiddle - ECPv6.15.12.2//NONSGML v1.0//EN
CALSCALE:GREGORIAN
METHOD:PUBLISH
X-WR-CALNAME:Ten Pound Fiddle
X-ORIGINAL-URL:https://www.tenpoundfiddle.org
X-WR-CALDESC:Events for Ten Pound Fiddle
REFRESH-INTERVAL;VALUE=DURATION:PT1H
X-Robots-Tag:noindex
X-PUBLISHED-TTL:PT1H
BEGIN:VTIMEZONE
TZID:America/Detroit
BEGIN:DAYLIGHT
TZOFFSETFROM:-0500
TZOFFSETTO:-0400
TZNAME:EDT
DTSTART:20210314T070000
END:DAYLIGHT
BEGIN:STANDARD
TZOFFSETFROM:-0400
TZOFFSETTO:-0500
TZNAME:EST
DTSTART:20211107T060000
END:STANDARD
BEGIN:DAYLIGHT
TZOFFSETFROM:-0500
TZOFFSETTO:-0400
TZNAME:EDT
DTSTART:20220313T070000
END:DAYLIGHT
BEGIN:STANDARD
TZOFFSETFROM:-0400
TZOFFSETTO:-0500
TZNAME:EST
DTSTART:20221106T060000
END:STANDARD
BEGIN:DAYLIGHT
TZOFFSETFROM:-0500
TZOFFSETTO:-0400
TZNAME:EDT
DTSTART:20230312T070000
END:DAYLIGHT
BEGIN:STANDARD
TZOFFSETFROM:-0400
TZOFFSETTO:-0500
TZNAME:EST
DTSTART:20231105T060000
END:STANDARD
END:VTIMEZONE
BEGIN:VEVENT
DTSTART;TZID=America/Detroit:20220422T193000
DTEND;TZID=America/Detroit:20220422T220000
DTSTAMP:20260419T162109
CREATED:20210731T195427Z
LAST-MODIFIED:20250731T020219Z
UID:8672-1650655800-1650664800@www.tenpoundfiddle.org
SUMMARY:Showman and Coole
DESCRIPTION:Through twenty years and a couple of thousand shows together in bands such as The Foggy Hogtown Boys and The Lonesome Ace Stringband\, John Showman and Chris Coole have developed a deep and instinctual musical bond.  Their music lurks around a truly unique space that is somewhere on the outskirts of old-time\, bluegrass\, and folk. The songs of John Hartford\, Hank Williams\, Dock Boggs\, and The Band share space with the fiddle tunes of Eck Robertson and Ed Haley. The duo’s original songs and tunes take in all these vistas and paint something both personal and timely. \nThey have performed across North America and Europe at festivals such as Merlefest\, Rockygrass\, Winnipeg Folk Festival\, Mariposa\, Wintergrass\, Gooikroots\, and The John Hartford Memorial Festival. \n“John Showman has made his mark as “one of the very best and most influential fiddle players in Canada” (Steve Pritchard\, CIUT 89.5 FM). \n“Chris’ clawhammer banjo playing is\, frankly\, incomparable”\n(Mitch Podolak\, Penguin Eggs Magazine) \n  \nhttps://www.youtube.com/watch?v=iyEDZ7KMs3k \nhttps://www.youtube.com/watch?v=FYbFcXiDIvs
URL:https://www.tenpoundfiddle.org/event/chris-coole/
LOCATION:University United Methodist Church (UUMC)\, 1120 S. Harrison\, East Lansing\, MI\, 48823\, United States
CATEGORIES:Concert
ATTACH;FMTTYPE=image/jpeg:https://www.tenpoundfiddle.org/2016/wp-content/uploads/2021/07/coole-showman.jpg
GEO:42.7213326;-84.4947507
X-APPLE-STRUCTURED-LOCATION;VALUE=URI;X-ADDRESS=University United Methodist Church (UUMC) 1120 S. Harrison East Lansing MI 48823 United States;X-APPLE-RADIUS=500;X-TITLE=1120 S. Harrison:geo:-84.4947507,42.7213326
END:VEVENT
END:VCALENDAR