BEGIN:VCALENDAR
VERSION:2.0
PRODID:-//Ten Pound Fiddle - ECPv6.15.12.2//NONSGML v1.0//EN
CALSCALE:GREGORIAN
METHOD:PUBLISH
X-WR-CALNAME:Ten Pound Fiddle
X-ORIGINAL-URL:https://www.tenpoundfiddle.org
X-WR-CALDESC:Events for Ten Pound Fiddle
REFRESH-INTERVAL;VALUE=DURATION:PT1H
X-Robots-Tag:noindex
X-PUBLISHED-TTL:PT1H
BEGIN:VTIMEZONE
TZID:America/Detroit
BEGIN:DAYLIGHT
TZOFFSETFROM:-0500
TZOFFSETTO:-0400
TZNAME:EDT
DTSTART:20240310T070000
END:DAYLIGHT
BEGIN:STANDARD
TZOFFSETFROM:-0400
TZOFFSETTO:-0500
TZNAME:EST
DTSTART:20241103T060000
END:STANDARD
BEGIN:DAYLIGHT
TZOFFSETFROM:-0500
TZOFFSETTO:-0400
TZNAME:EDT
DTSTART:20250309T070000
END:DAYLIGHT
BEGIN:STANDARD
TZOFFSETFROM:-0400
TZOFFSETTO:-0500
TZNAME:EST
DTSTART:20251102T060000
END:STANDARD
BEGIN:DAYLIGHT
TZOFFSETFROM:-0500
TZOFFSETTO:-0400
TZNAME:EDT
DTSTART:20260308T070000
END:DAYLIGHT
BEGIN:STANDARD
TZOFFSETFROM:-0400
TZOFFSETTO:-0500
TZNAME:EST
DTSTART:20261101T060000
END:STANDARD
END:VTIMEZONE
BEGIN:VEVENT
DTSTART;TZID=America/Detroit:20250919T193000
DTEND;TZID=America/Detroit:20250919T213000
DTSTAMP:20260419T131332
CREATED:20250729T201037Z
LAST-MODIFIED:20250908T164050Z
UID:21382-1758310200-1758317400@www.tenpoundfiddle.org
SUMMARY:Cecilia
DESCRIPTION:Traditional music that causes a wonderful stir and fills to overflowing every venue – that is Cécilia! Widely recognized as three of Canada’s finest musicians\, it is a pleasure to see how much enjoyment Timi Turmel\, Erin Leahy\, and Louis Schryer find in playing together. While honouring their heritage as Cécilia\, their music making has an undeniably fresh and high-spirited sound. \n\nThey bring the best of many musical worlds together in their explorations of traditional\, Celtic and Quebecois music. Every one of their pieces is skillfully arranged and highlighted with influences from contemporary\, classical\, jazz and swing styles. Cécilia’s recent debut album Accent is an impressive offering full of vibrant rhythms and melodies\, all resonating with a unique warmth and richness of expression. \n\nEach performance by Cécilia is a call to come out and share – not only in the joy of three dedicated musicians making music together but also in creating with Timi\, Erin\, and Louis a unique and memorable musical experience. You’ll find yourself with a smile that lasts long after the final notes of Cécilia’s accordion\, piano\, and violin have melted away. \nhttps://ceciliamusic.ca/
URL:https://www.tenpoundfiddle.org/event/cecilia/
LOCATION:University Lutheran Church (ULC)\, 1020 S Harrison Rd\, East Lansing\, MI\, 48823\, United States
CATEGORIES:Concert,Featured
ATTACH;FMTTYPE=image/jpeg:https://www.tenpoundfiddle.org/2016/wp-content/uploads/2025/07/250919-mlyu3x.jpg
GEO:42.723138;-84.4947078
X-APPLE-STRUCTURED-LOCATION;VALUE=URI;X-ADDRESS=University Lutheran Church (ULC) 1020 S Harrison Rd East Lansing MI 48823 United States;X-APPLE-RADIUS=500;X-TITLE=1020 S Harrison Rd:geo:-84.4947078,42.723138
END:VEVENT
END:VCALENDAR