BEGIN:VCALENDAR
VERSION:2.0
PRODID:-//Ten Pound Fiddle - ECPv6.15.12.2//NONSGML v1.0//EN
CALSCALE:GREGORIAN
METHOD:PUBLISH
X-WR-CALNAME:Ten Pound Fiddle
X-ORIGINAL-URL:https://www.tenpoundfiddle.org
X-WR-CALDESC:Events for Ten Pound Fiddle
REFRESH-INTERVAL;VALUE=DURATION:PT1H
X-Robots-Tag:noindex
X-PUBLISHED-TTL:PT1H
BEGIN:VTIMEZONE
TZID:America/Detroit
BEGIN:DAYLIGHT
TZOFFSETFROM:-0500
TZOFFSETTO:-0400
TZNAME:EDT
DTSTART:20170312T070000
END:DAYLIGHT
BEGIN:STANDARD
TZOFFSETFROM:-0400
TZOFFSETTO:-0500
TZNAME:EST
DTSTART:20171105T060000
END:STANDARD
BEGIN:DAYLIGHT
TZOFFSETFROM:-0500
TZOFFSETTO:-0400
TZNAME:EDT
DTSTART:20180311T070000
END:DAYLIGHT
BEGIN:STANDARD
TZOFFSETFROM:-0400
TZOFFSETTO:-0500
TZNAME:EST
DTSTART:20181104T060000
END:STANDARD
BEGIN:DAYLIGHT
TZOFFSETFROM:-0500
TZOFFSETTO:-0400
TZNAME:EDT
DTSTART:20190310T070000
END:DAYLIGHT
BEGIN:STANDARD
TZOFFSETFROM:-0400
TZOFFSETTO:-0500
TZNAME:EST
DTSTART:20191103T060000
END:STANDARD
END:VTIMEZONE
BEGIN:VEVENT
DTSTART;TZID=America/Detroit:20180505T100000
DTEND;TZID=America/Detroit:20180505T111500
DTSTAMP:20260419T120408
CREATED:20170808T172258Z
LAST-MODIFIED:20250731T020222Z
UID:3732-1525514400-1525518900@www.tenpoundfiddle.org
SUMMARY:Canadian Roots & Children's Music Legend Ken Whiteley
DESCRIPTION:Masterful and amazing!” Tampa Acoustic Music Exchange \nKen Whiteley is a Canadian roots music legend. His musical journey has taken him from jug band\, folk and swing to blues\, gospel and children’s music. Among numerous accolades\, he’s been awarded a Canadian Folk Music Award\, Genie Award for Best Original Song in a Canadian film\, Lifetime Achievement recognition from Folk Music Ontario (Ontario Council of Folk Festivals) and Mariposa Folk Festival. He has also been nominated for 7 Juno awards and 16 Maple Blues Awards. Ken’s live performances showcase his outstanding musicianship on guitars and mandolin\, award winning original songs and his powerful vocals\, called “…a cross between Pete Seeger and Tony Bennett on 11!” At children’s festivals and concerts of all sizes\, his “…deep knowledge and infectious passion” guarantee good times for all. As a producer of over 140 recording projects\, Ken’s productions have garnered 10 Canadian Gold and Platinum records\, 4 American Gold records\, 22 Juno and 2 Grammy nominations\, and sold over 8 million copies. \nCome join folk enthusiasts ages 3 – 13 and their family for fun with folk music. Refreshments provided. \nDo your children love music? Come to Fiddle Scouts! See you there! \nFor more information\, contact Tamiko Rothhorn at 517.974.3751 or email her at fiddlescouts@gmail.com.
URL:https://www.tenpoundfiddle.org/event/canadian-roots-childrenos-music-legend-ken-whiteley/
LOCATION:MSU Community Music School\, 4930 S. Hagadorn\, East Lansing\, MI\, 48823\, United States
CATEGORIES:Fiddle Scouts
ATTACH;FMTTYPE=image/jpeg:https://www.tenpoundfiddle.org/2016/wp-content/uploads/2017/08/180505.jpg
GEO:42.725146;-84.4611
X-APPLE-STRUCTURED-LOCATION;VALUE=URI;X-ADDRESS=MSU Community Music School 4930 S. Hagadorn East Lansing MI 48823 United States;X-APPLE-RADIUS=500;X-TITLE=4930 S. Hagadorn:geo:-84.4611,42.725146
END:VEVENT
END:VCALENDAR