BEGIN:VCALENDAR
VERSION:2.0
PRODID:-//Ten Pound Fiddle - ECPv6.15.12.2//NONSGML v1.0//EN
CALSCALE:GREGORIAN
METHOD:PUBLISH
X-WR-CALNAME:Ten Pound Fiddle
X-ORIGINAL-URL:https://www.tenpoundfiddle.org
X-WR-CALDESC:Events for Ten Pound Fiddle
REFRESH-INTERVAL;VALUE=DURATION:PT1H
X-Robots-Tag:noindex
X-PUBLISHED-TTL:PT1H
BEGIN:VTIMEZONE
TZID:America/Detroit
BEGIN:DAYLIGHT
TZOFFSETFROM:-0500
TZOFFSETTO:-0400
TZNAME:EDT
DTSTART:20200308T070000
END:DAYLIGHT
BEGIN:STANDARD
TZOFFSETFROM:-0400
TZOFFSETTO:-0500
TZNAME:EST
DTSTART:20201101T060000
END:STANDARD
BEGIN:DAYLIGHT
TZOFFSETFROM:-0500
TZOFFSETTO:-0400
TZNAME:EDT
DTSTART:20210314T070000
END:DAYLIGHT
BEGIN:STANDARD
TZOFFSETFROM:-0400
TZOFFSETTO:-0500
TZNAME:EST
DTSTART:20211107T060000
END:STANDARD
BEGIN:DAYLIGHT
TZOFFSETFROM:-0500
TZOFFSETTO:-0400
TZNAME:EDT
DTSTART:20220313T070000
END:DAYLIGHT
BEGIN:STANDARD
TZOFFSETFROM:-0400
TZOFFSETTO:-0500
TZNAME:EST
DTSTART:20221106T060000
END:STANDARD
END:VTIMEZONE
BEGIN:VEVENT
DTSTART;VALUE=DATE:20210730
DTEND;VALUE=DATE:20210821
DTSTAMP:20260419T162422
CREATED:20200828T010307Z
LAST-MODIFIED:20210731T193111Z
UID:8042-1627603200-1629503999@www.tenpoundfiddle.org
SUMMARY:Streaming from the Archives: Joshua Davis
DESCRIPTION:From the Archives:\nAudio from the Joshua Davis February 1\, 2019 performance will be available streaming here\, during the dates listed above.\n\n \nTen Pound Fiddle · Joshua Davis Live From The Ten Pound Fiddle – February 1\, 2019\nTip jar links: \nhttps://paypal.me/joshuadavismusic \nhttps://venmo.com/joshuadavismusic \nhttps://patreon.com/Joshuadavismusic \nSpeaking or singing\, the voice of Joshua Davis is a disarming instrument: weathered and warm\, as capable of conjuring confessional intimacy on a global stage as it is of making a small room\, well off the beaten path\, resonate with startling urgency and power. Couple it with an earnest poetic sensibility\, a boundless work ethic\, and an uncanny gift for connecting with audiences spanning generations\, and it’s no wonder that Davis is now poised at the brink of the sort of widespread recognition that typically passes right over such a humble troubadour. \nOver the past twenty years\, Michigan-based Davis has honed an impressive range of skills – songwriter\, bandleader\, guitarist\, and vocalist among them – in the most honest possible fashion: night after night\, song after song\, show after show Davis simply delivered every performance as though his life depended on it. Investing himself in the American musical diaspora\, he has explored the common thread connecting folk\, blues\, jazz\, ragtime\, and country forms – discovering his personal perspective as a composer in the process. \n“My sound is rooted in the folk tradition\,” Davis explains\, “but it’s not folk music. Terms like Americana\, roots rock\, and heartland rock come up\, but there’s so much more to it than that. I’m not a purist: I play with that American folk lineage\, I play with those metaphors.” His versatility and ravenous musical curiosity has resulted in a divergent and fervent output. Since his appearance as a finalist on Season 8 of NBC’s “The Voice”\, Davis has been churning out an album a year and has plans to continue to do so. His sensibilities shine brightest on his latest trio of solo releases\, each a thoughtful dispatch on life\, love\, change\, and growth. \nHe’s currently touring in support of “Live From The Robin.” His first solo effort captures his essence in a way that pares his songs down to their emotional\, musical and lyrical roots. Recorded over the span of two nights\, this documents a raw and revealing glimpse of an artist who has his finger on the pulse of a culture\, a culture that lives\, loves and laughs\, cries\, mourns and heals. Joshua’s authenticity plucks all of the right heartstrings\, soars on the updrafts\, and plumbs the depths of the human experience. This is a deep and warm conversation with a room full of old friends. “I’ve wanted to make this album for years” says Davis. “And I’m so excited to share it. I love playing solo shows. It allows me the freedom to dig deep into my songs and really be in the moment with the audience.” \n\n 
URL:https://www.tenpoundfiddle.org/event/archive-joshua-davis/
CATEGORIES:From the Archives,Virtual
ATTACH;FMTTYPE=image/jpeg:https://www.tenpoundfiddle.org/2016/wp-content/uploads/2019/08/200327.jpg
END:VEVENT
END:VCALENDAR