BEGIN:VCALENDAR
VERSION:2.0
PRODID:-//Ten Pound Fiddle - ECPv6.15.12.2//NONSGML v1.0//EN
CALSCALE:GREGORIAN
METHOD:PUBLISH
X-WR-CALNAME:Ten Pound Fiddle
X-ORIGINAL-URL:https://www.tenpoundfiddle.org
X-WR-CALDESC:Events for Ten Pound Fiddle
REFRESH-INTERVAL;VALUE=DURATION:PT1H
X-Robots-Tag:noindex
X-PUBLISHED-TTL:PT1H
BEGIN:VTIMEZONE
TZID:America/Detroit
BEGIN:DAYLIGHT
TZOFFSETFROM:-0500
TZOFFSETTO:-0400
TZNAME:EDT
DTSTART:20180311T070000
END:DAYLIGHT
BEGIN:STANDARD
TZOFFSETFROM:-0400
TZOFFSETTO:-0500
TZNAME:EST
DTSTART:20181104T060000
END:STANDARD
BEGIN:DAYLIGHT
TZOFFSETFROM:-0500
TZOFFSETTO:-0400
TZNAME:EDT
DTSTART:20190310T070000
END:DAYLIGHT
BEGIN:STANDARD
TZOFFSETFROM:-0400
TZOFFSETTO:-0500
TZNAME:EST
DTSTART:20191103T060000
END:STANDARD
BEGIN:DAYLIGHT
TZOFFSETFROM:-0500
TZOFFSETTO:-0400
TZNAME:EDT
DTSTART:20200308T070000
END:DAYLIGHT
BEGIN:STANDARD
TZOFFSETFROM:-0400
TZOFFSETTO:-0500
TZNAME:EST
DTSTART:20201101T060000
END:STANDARD
END:VTIMEZONE
BEGIN:VEVENT
DTSTART;TZID=America/Detroit:20191120T193000
DTEND;TZID=America/Detroit:20191120T220000
DTSTAMP:20260419T134040
CREATED:20190805T225357Z
LAST-MODIFIED:20250731T020220Z
UID:6762-1574278200-1574287200@www.tenpoundfiddle.org
SUMMARY:Amythyst Kiah  (Wednesday)
DESCRIPTION:“Her razor-sharp guitar picking alone guarantees her a place among blues masters\, but it’s her deep-hued voice that can change on a dime from brushed steel to melted toffee that commands attention.” —The New York Times \nBorn in Chattanooga and now based in Johnson City\, Amythyst Kiah’s commanding stage presence is matched by her raw and powerful vocals—a deeply moving\, hypnotic sound that stirs echoes of a distant and restless past. \nAccompanied interchangeably with banjo\, acoustic guitar\, or a full band\, her eclectic influences span decades\, finding inspiration in old time music\, alternative rock\, folk\, country\, and blues. \nhttps://youtu.be/bN4ds0l_0Vk \nOur Native Daughters\, her recent collaboration with Rhiannon Giddens\, Leyla McCalla\, and Allison Russell (Birds of Chicago)\, has delivered a full-length album produced by Rhiannon Giddens and Dirk Powell\, Songs of Our Native Daughters (out now on Smithsonian Folkways). NPR described the opening track\, Black Myself\, written by Amythyst\, as “the simmering defiance of self-respect in the face of racism.” The supergroup will hit the road in July with a series of special dates that include performances at Washington D.C.’s Smithsonian Museum of African American History & Culture as well as Newport Folk Festival. Most recently\, the group has been nominated for Duo/Group of the Year at the 2019 Americana Honors & Awards. \nAmythyst regularly tours the United Kingdom and has performed at Celtic Connections\, Southern Fried Festival\, Cambridge Folk Festival\, the Edinburgh Jazz & Blues Festival\, and SummerTyne Americana Festival. She is a crowd favorite at Bristol Rhythm & Roots Reunion in the U.S. and has shined at the John F. Kennedy Center for Performing Arts\, Smithsonian Folk Life Festival\, Winnipeg Folk Festival\, and opening for artists such as the Indigo Girls\, Rhiannon Giddens\, Dom Flemons\, Old Crow Medicine Show\, First Aid Kit\, Darrell Scott\, and Tim O’Brien. \nProvocative and fierce\, Amythyst’s ability to cross boundaries is groundbreaking and simply unforgettable. \nhttps://youtu.be/BjAHcvJQzFY \n  \n 
URL:https://www.tenpoundfiddle.org/event/amythyst-kiah-wednesday/
LOCATION:The Robin Theatre\, 1105 S. Washington Ave\, Lansing\, MI\, 48901\, United States
CATEGORIES:Concert
ATTACH;FMTTYPE=image/jpeg:https://www.tenpoundfiddle.org/2016/wp-content/uploads/2019/08/191120.jpg
GEO:42.721602;-84.552
X-APPLE-STRUCTURED-LOCATION;VALUE=URI;X-ADDRESS=The Robin Theatre 1105 S. Washington Ave Lansing MI 48901 United States;X-APPLE-RADIUS=500;X-TITLE=1105 S. Washington Ave:geo:-84.552,42.721602
END:VEVENT
END:VCALENDAR