BEGIN:VCALENDAR
VERSION:2.0
PRODID:-//Ten Pound Fiddle - ECPv6.15.12.2//NONSGML v1.0//EN
CALSCALE:GREGORIAN
METHOD:PUBLISH
X-WR-CALNAME:Ten Pound Fiddle
X-ORIGINAL-URL:https://www.tenpoundfiddle.org
X-WR-CALDESC:Events for Ten Pound Fiddle
REFRESH-INTERVAL;VALUE=DURATION:PT1H
X-Robots-Tag:noindex
X-PUBLISHED-TTL:PT1H
BEGIN:VTIMEZONE
TZID:America/Detroit
BEGIN:DAYLIGHT
TZOFFSETFROM:-0500
TZOFFSETTO:-0400
TZNAME:EDT
DTSTART:20240310T070000
END:DAYLIGHT
BEGIN:STANDARD
TZOFFSETFROM:-0400
TZOFFSETTO:-0500
TZNAME:EST
DTSTART:20241103T060000
END:STANDARD
BEGIN:DAYLIGHT
TZOFFSETFROM:-0500
TZOFFSETTO:-0400
TZNAME:EDT
DTSTART:20250309T070000
END:DAYLIGHT
BEGIN:STANDARD
TZOFFSETFROM:-0400
TZOFFSETTO:-0500
TZNAME:EST
DTSTART:20251102T060000
END:STANDARD
BEGIN:DAYLIGHT
TZOFFSETFROM:-0500
TZOFFSETTO:-0400
TZNAME:EDT
DTSTART:20260308T070000
END:DAYLIGHT
BEGIN:STANDARD
TZOFFSETFROM:-0400
TZOFFSETTO:-0500
TZNAME:EST
DTSTART:20261101T060000
END:STANDARD
END:VTIMEZONE
BEGIN:VEVENT
DTSTART;TZID=America/Detroit:20250201T120000
DTEND;TZID=America/Detroit:20250201T153000
DTSTAMP:20260419T162300
CREATED:20240813T160809Z
LAST-MODIFIED:20250111T054131Z
UID:18933-1738411200-1738423800@www.tenpoundfiddle.org
SUMMARY:21st MWSF Workshops
DESCRIPTION:$20 wristband good for any and all Saturday workshops. Students free. A refreshment center will be open from 11 am – 2:30 pm\, offering coffee\, tea\, cider\, and cookies for a donation.  \nNoon – 1 pm\nAfternoon Community Sing\nSally Potter and friends  \nThe Afternoon Community Sing will pull songs from the two books that have sustained the community singing movement: Rise Up Singing and Rise Again. Song leader Sally Potter and friends will lead favorites\, including songs made popular by the late Peter Yarrow of Peter\, Paul and Mary\, and the late Josh White Jr.   Books welcome but not necessary; lyric sheets provided. \n1:15 – 2:15 pm\nThe Best of the Movies\nwith Dan Chounaird \n“Come to the Cabaret” and leave with your heart full of great movie songs. Other selections include\, “I Could Have Danced All Night\,” and “Singing In The Rain” among many others. This is your chance to sing your favorite Oscar winning – and nominated – songs with Dan Chouinard\, a terrific song leader and fabulous piano (and accordion) player. Lyric sheets provided. \nLyric sheets provided. \n*Note- this workshop title and description is slightly edited from a previously promoted version. \n2:30 – 3:30 pm\nFolk Song Jam Along\nwith Lori Fithian and Jean Chorazyczewski  \nJoin this all-ages\, community music-making event where everyone is welcome—no musical experience necessary. Just bring your love for singing! Lori Fithian and Jean Chorazyczewski have over 300 songs to choose from across genres and decades; they project the lyrics and chords on the screen so everyone can follow along. Whether you bring an acoustic instrument or just your voice\, you are invited to join this musical magic.
URL:https://www.tenpoundfiddle.org/event/21st-mwsf-workshops/
LOCATION:University Lutheran Church (ULC)\, 1020 S Harrison Rd\, East Lansing\, MI\, 48823\, United States
CATEGORIES:Concert,Mid-Winter Singing Festival,Special Event,Workshop
ATTACH;FMTTYPE=image/jpeg:https://www.tenpoundfiddle.org/2016/wp-content/uploads/2024/08/250201.jpg
GEO:42.723138;-84.4947078
X-APPLE-STRUCTURED-LOCATION;VALUE=URI;X-ADDRESS=University Lutheran Church (ULC) 1020 S Harrison Rd East Lansing MI 48823 United States;X-APPLE-RADIUS=500;X-TITLE=1020 S Harrison Rd:geo:-84.4947078,42.723138
END:VEVENT
END:VCALENDAR