BEGIN:VCALENDAR
VERSION:2.0
PRODID:-//Ten Pound Fiddle - ECPv6.15.12.2//NONSGML v1.0//EN
CALSCALE:GREGORIAN
METHOD:PUBLISH
X-WR-CALNAME:Ten Pound Fiddle
X-ORIGINAL-URL:https://www.tenpoundfiddle.org
X-WR-CALDESC:Events for Ten Pound Fiddle
REFRESH-INTERVAL;VALUE=DURATION:PT1H
X-Robots-Tag:noindex
X-PUBLISHED-TTL:PT1H
BEGIN:VTIMEZONE
TZID:America/Detroit
BEGIN:DAYLIGHT
TZOFFSETFROM:-0500
TZOFFSETTO:-0400
TZNAME:EDT
DTSTART:20240310T070000
END:DAYLIGHT
BEGIN:STANDARD
TZOFFSETFROM:-0400
TZOFFSETTO:-0500
TZNAME:EST
DTSTART:20241103T060000
END:STANDARD
BEGIN:DAYLIGHT
TZOFFSETFROM:-0500
TZOFFSETTO:-0400
TZNAME:EDT
DTSTART:20250309T070000
END:DAYLIGHT
BEGIN:STANDARD
TZOFFSETFROM:-0400
TZOFFSETTO:-0500
TZNAME:EST
DTSTART:20251102T060000
END:STANDARD
BEGIN:DAYLIGHT
TZOFFSETFROM:-0500
TZOFFSETTO:-0400
TZNAME:EDT
DTSTART:20260308T070000
END:DAYLIGHT
BEGIN:STANDARD
TZOFFSETFROM:-0400
TZOFFSETTO:-0500
TZNAME:EST
DTSTART:20261101T060000
END:STANDARD
END:VTIMEZONE
BEGIN:VEVENT
DTSTART;TZID=America/Detroit:20250131T193000
DTEND;TZID=America/Detroit:20250131T220000
DTSTAMP:20260419T144734
CREATED:20240813T160803Z
LAST-MODIFIED:20250107T222134Z
UID:18931-1738351800-1738360800@www.tenpoundfiddle.org
SUMMARY:21st MWSF Community Sing with Dan Chouinard
DESCRIPTION:Dan Chouinard is a St. Paul-based multipurpose pianist\, concert soloist and accompanist\, street accordionist\, sing-along enabler\, Italian and French teacher and bicycling vagabond. Host of monthly sings in Minneapolis and St. Paul. Creator and host of many live music-and-history variety shows for broadcast on Minnesota Public Radio and Twin Cities Public Television. Performer on a dozen live radio broadcasts of A Prairie Home Companion\, and rehearsal pianist for Meryl Streep\, Lily Tomlin and Lindsay Lohan on the 2005 movie. Recording artist with Peter Ostroushko (of blessed memory)\, Prudence Johnson and Maria Jette and many others. Co-creator with Prudence Johnson of shows on Randy Newman\, Leonard Bernstein\, Jacques Brel\, Kurt Weill\, George Gershwin\, Hoagy Carmichael and more. Leader of the classic country band\, Lush Country\, comprised of Prairie Home Companion veterans. \n\n\nRECENT: Since summer 2021 Dan has joined Garrison Keillor and Prudence Johnson for concert appearances around the U.S.\, including Holland\, MI and Crystal Falls in the U.P. \n(2017) The Minneapolis Star Tribune calls Dan Chouinard “Minnesota’s Accompanist”:\nWith lyrics projected on a screen\, Chouinard lets fly with inventive\, often playful\, accompaniments\, rarely glancing at the keyboard\, a feat that one regular considers magic. “It’s kind of his calling\,” said the man who’s attended these singalongs for ten years. “I mean\, you know he could be playing with anyone\, but here he is with us.” \nhttp://danchouinard.com
URL:https://www.tenpoundfiddle.org/event/21st-mwsf-community-sing-with-dan-chouinard/
LOCATION:University Lutheran Church (ULC)\, 1020 S Harrison Rd\, East Lansing\, MI\, 48823\, United States
CATEGORIES:Concert,Featured,Mid-Winter Singing Festival,Special Event
ATTACH;FMTTYPE=image/jpeg:https://www.tenpoundfiddle.org/2016/wp-content/uploads/2024/08/Saturdaynight_034_.jpg
GEO:42.723138;-84.4947078
X-APPLE-STRUCTURED-LOCATION;VALUE=URI;X-ADDRESS=University Lutheran Church (ULC) 1020 S Harrison Rd East Lansing MI 48823 United States;X-APPLE-RADIUS=500;X-TITLE=1020 S Harrison Rd:geo:-84.4947078,42.723138
END:VEVENT
END:VCALENDAR