BEGIN:VCALENDAR
VERSION:2.0
PRODID:-//Ten Pound Fiddle - ECPv6.15.12.2//NONSGML v1.0//EN
CALSCALE:GREGORIAN
METHOD:PUBLISH
X-WR-CALNAME:Ten Pound Fiddle
X-ORIGINAL-URL:https://www.tenpoundfiddle.org
X-WR-CALDESC:Events for Ten Pound Fiddle
REFRESH-INTERVAL;VALUE=DURATION:PT1H
X-Robots-Tag:noindex
X-PUBLISHED-TTL:PT1H
BEGIN:VTIMEZONE
TZID:America/Detroit
BEGIN:DAYLIGHT
TZOFFSETFROM:-0500
TZOFFSETTO:-0400
TZNAME:EDT
DTSTART:20210314T070000
END:DAYLIGHT
BEGIN:STANDARD
TZOFFSETFROM:-0400
TZOFFSETTO:-0500
TZNAME:EST
DTSTART:20211107T060000
END:STANDARD
BEGIN:DAYLIGHT
TZOFFSETFROM:-0500
TZOFFSETTO:-0400
TZNAME:EDT
DTSTART:20220313T070000
END:DAYLIGHT
BEGIN:STANDARD
TZOFFSETFROM:-0400
TZOFFSETTO:-0500
TZNAME:EST
DTSTART:20221106T060000
END:STANDARD
BEGIN:DAYLIGHT
TZOFFSETFROM:-0500
TZOFFSETTO:-0400
TZNAME:EDT
DTSTART:20230312T070000
END:DAYLIGHT
BEGIN:STANDARD
TZOFFSETFROM:-0400
TZOFFSETTO:-0500
TZNAME:EST
DTSTART:20231105T060000
END:STANDARD
END:VTIMEZONE
BEGIN:VEVENT
DTSTART;TZID=America/Detroit:20221015T190000
DTEND;TZID=America/Detroit:20221015T220000
DTSTAMP:20260419T161957
CREATED:20220818T200802Z
LAST-MODIFIED:20220926T221222Z
UID:12079-1665860400-1665871200@www.tenpoundfiddle.org
SUMMARY:Contra and Square Dance
DESCRIPTION:Vaccination cards and masks are required for Fall dances. Click here for the COVID policy.  \nThis dance is co-sponsored by the Fiddle and Looking Glass Music and Arts Association. \nAll dances taught – no partner needed. Wear loose clothes\, comfortable shoes\, and be prepared to have a good time! Come early – at 6:30 – for a quick workshop on easy contra dance moves. For more info\, call 517-614-5858
URL:https://www.tenpoundfiddle.org/event/2022-dance3/
LOCATION:Central United Methodist Church\, 215 N. Capitol Ave\, Lansing\, MI\, 48933\, United States
CATEGORIES:Dance
ATTACH;FMTTYPE=image/jpeg:https://www.tenpoundfiddle.org/2016/wp-content/uploads/2019/04/Dance-Young-dancers-IG.jpg
GEO:42.7350069;-84.5543291
X-APPLE-STRUCTURED-LOCATION;VALUE=URI;X-ADDRESS=Central United Methodist Church 215 N. Capitol Ave Lansing MI 48933 United States;X-APPLE-RADIUS=500;X-TITLE=215 N. Capitol Ave:geo:-84.5543291,42.7350069
END:VEVENT
END:VCALENDAR